BEGIN:VCALENDAR
VERSION:2.0
PRODID:-//Gaited Horses of New England - ECPv6.14.0//NONSGML v1.0//EN
CALSCALE:GREGORIAN
METHOD:PUBLISH
X-WR-CALNAME:Gaited Horses of New England
X-ORIGINAL-URL:https://gaitedhorsesne.org
X-WR-CALDESC:Events for Gaited Horses of New England
REFRESH-INTERVAL;VALUE=DURATION:PT1H
X-Robots-Tag:noindex
X-PUBLISHED-TTL:PT1H
BEGIN:VTIMEZONE
TZID:America/New_York
BEGIN:DAYLIGHT
TZOFFSETFROM:-0500
TZOFFSETTO:-0400
TZNAME:EDT
DTSTART:20250309T070000
END:DAYLIGHT
BEGIN:STANDARD
TZOFFSETFROM:-0400
TZOFFSETTO:-0500
TZNAME:EST
DTSTART:20251102T060000
END:STANDARD
END:VTIMEZONE
BEGIN:VEVENT
DTSTART;VALUE=DATE:20250330
DTEND;VALUE=DATE:20250331
DTSTAMP:20260419T223551
CREATED:20241223T181047Z
LAST-MODIFIED:20250206T203939Z
UID:750-1743292800-1743379199@gaitedhorsesne.org
SUMMARY:POSTPONED: Potluck Lunch & Gaited Videos by Ivy Starnes
DESCRIPTION:POSTPONED: NEW DATE TBD  \nWe look forward to a club potluck lunch to enjoy each other’s company and prepare for the spring riding season. After lunch\, we will watch and discuss some of our favorite gaited videos from clinician Ivy Starnes’ collection as a prequel to her GHNE Clinic in August. We can choose from among her video lists\, such as: \n\nPacing to Trotting\nCreating Gait\nTraining a Gaited Horse to Drop Its Head\nCollection: What It Is and That It Is Not\nCantering Gaited Horses\n\nPlease RSVP to Donna Pettengill with the potluck item you would like to bring for lunch and your area of interest in learning more from Ivy’s videos. You can contact Donna at Dpettengill14@gmail.com.
URL:https://gaitedhorsesne.org/event/potluck-lunch-gaited-videos-by-ivy-starnes/
LOCATION:Location: Litchfield\, NH
ATTACH;FMTTYPE=image/jpeg:https://gaitedhorsesne.org/wp-content/uploads/2024/12/Potluck-picture.jpeg
END:VEVENT
END:VCALENDAR