BEGIN:VCALENDAR
VERSION:2.0
PRODID:-//Gaited Horses of New England - ECPv6.14.0//NONSGML v1.0//EN
CALSCALE:GREGORIAN
METHOD:PUBLISH
X-WR-CALNAME:Gaited Horses of New England
X-ORIGINAL-URL:https://gaitedhorsesne.org
X-WR-CALDESC:Events for Gaited Horses of New England
REFRESH-INTERVAL;VALUE=DURATION:PT1H
X-Robots-Tag:noindex
X-PUBLISHED-TTL:PT1H
BEGIN:VTIMEZONE
TZID:America/New_York
BEGIN:DAYLIGHT
TZOFFSETFROM:-0500
TZOFFSETTO:-0400
TZNAME:EDT
DTSTART:20250309T070000
END:DAYLIGHT
BEGIN:STANDARD
TZOFFSETFROM:-0400
TZOFFSETTO:-0500
TZNAME:EST
DTSTART:20251102T060000
END:STANDARD
END:VTIMEZONE
BEGIN:VEVENT
DTSTART;TZID=America/New_York:20250719T100000
DTEND;TZID=America/New_York:20250719T160000
DTSTAMP:20260419T162618
CREATED:20241228T174912Z
LAST-MODIFIED:20250624T165520Z
UID:755-1752919200-1752940800@gaitedhorsesne.org
SUMMARY:Mountain Trail Course Versatility Clinic with Heather White\, Play Day\, Fun Show\, and Trail Ride
DESCRIPTION:Come join us for a day packed full of fun for you and your horse:\n10:00 – 12:00 pm Versatility Clinic taught by Heather White = $150\n10:00 – 12:00 pm Play Day on the Versatility Course for those who have already taken the Versatility Clinic = $40\n12:00 – 1:00 pm Lunch (Zizza Pizza for sale or bring your own)\n1:00 pm Fun Show on judged course = $10/class. \nAfternoon Trail Ride is complimentary. \nHave you already completed the Versatility Clinic with Heather White? Join us for $40 per horse and rider truck in\, and bring a friend who has also completed the Versatility Clinic and pay 1/2 of price for the second rider ($60 for the day for two horses and riders). You must be Gaited Horses of New England member for insurance purposes. \nRSVP to Loren Stevens at: Loren.Stevens202@gmail.com to hold a spot for this popular clinic! See you there! \n 
URL:https://gaitedhorsesne.org/event/mountain-trail-course-versatility-clinic-with-heather-white-fun-show-and-or-play-day/
LOCATION:Mt. Lane Farm\, 11 Stone Lane\, Temple\, New Hampshire
ATTACH;FMTTYPE=image/webp:https://gaitedhorsesne.org/wp-content/uploads/2024/12/mtn-trail-course.webp
END:VEVENT
END:VCALENDAR