BEGIN:VCALENDAR
VERSION:2.0
PRODID:-//Gaited Horses of New England - ECPv6.14.0//NONSGML v1.0//EN
CALSCALE:GREGORIAN
METHOD:PUBLISH
X-WR-CALNAME:Gaited Horses of New England
X-ORIGINAL-URL:https://gaitedhorsesne.org
X-WR-CALDESC:Events for Gaited Horses of New England
REFRESH-INTERVAL;VALUE=DURATION:PT1H
X-Robots-Tag:noindex
X-PUBLISHED-TTL:PT1H
BEGIN:VTIMEZONE
TZID:America/New_York
BEGIN:DAYLIGHT
TZOFFSETFROM:-0500
TZOFFSETTO:-0400
TZNAME:EDT
DTSTART:20250309T070000
END:DAYLIGHT
BEGIN:STANDARD
TZOFFSETFROM:-0400
TZOFFSETTO:-0500
TZNAME:EST
DTSTART:20251102T060000
END:STANDARD
END:VTIMEZONE
BEGIN:VEVENT
DTSTART;VALUE=DATE:20251106
DTEND;VALUE=DATE:20251110
DTSTAMP:20260414T171221
CREATED:20250101T212916Z
LAST-MODIFIED:20250924T171421Z
UID:782-1762387200-1762732799@gaitedhorsesne.org
SUMMARY:Equine Affaire
DESCRIPTION:Please join us at Equine Affaire for an exciting horse weekend of learning\, shopping\, and friendship. \n\n\nPlease note that our red\, white\, and blue booth has moved to #2305 in the Stroh Building. Please drop by our booth for snacks\, coffee\, water\, to recharge your phones\, rest your weary feet\, and\, of course\, to chat about all things gaited horses. \nOur Gaited Clinician is Scot MacGregor:\n \n\nThursday\, 10:00 am (Young Building): Rounding the Easy Gaited Horse to Improve Stride and Squareness.\nThursday\, 12:00 pm (Mallory North): Bitting the Easy Gaited Horse for Comfort and the Implementation of Precise Cues.\nThursday\, 4:30 pm (Young Building): Developing the Canter on the Easy Gaited Horse.\nFriday\, 5:30 pm (Mallory South): Gaited Dressage Demo by Scot MacGregor\nFriday\, 5:45 pm (Mallory South): GHNE Club Breed Demo\nFriday\, 7:00 pm (Storrowton Tavern): GHNE Club Dinner with honored guests Scot & Lynn MacGregor and Ida Norris and her assistant Dayna Roberts. Please RSVP to Amy Sintros for the dinner: Amy.sintros@gmail.com.\nAlso presenting at Equine Affaire is Ida Norris\, exceptional gaited and traditional dressage competitor\, instructor\, and judge.\nSunday\, 11:00 am (Seminar Stage\, Better Living Center) Ida Norris: What you Need to Know before you Develop your Western Dressage Musical Freestyle.\nSunday\, 3:00 pm (Seminar Stage\, Better Living Center) Ida Norris: Getting Started in Western Dressage: From Foundational Principles and Equipment to Competition Overviews.
URL:https://gaitedhorsesne.org/event/equine-affaire-2/
LOCATION:Big E\, Eastern States Exposition\, West Springfield\, MA\, 1305 Memorial Ave\, United States
ATTACH;FMTTYPE=image/jpeg:https://gaitedhorsesne.org/wp-content/uploads/2025/01/Group-with-Ivy-at-Equine-Affaire.jpg
END:VEVENT
END:VCALENDAR