BEGIN:VCALENDAR
VERSION:2.0
PRODID:-//Gaited Horses of New England - ECPv6.14.0//NONSGML v1.0//EN
CALSCALE:GREGORIAN
METHOD:PUBLISH
X-ORIGINAL-URL:https://gaitedhorsesne.org
X-WR-CALDESC:Events for Gaited Horses of New England
REFRESH-INTERVAL;VALUE=DURATION:PT1H
X-Robots-Tag:noindex
X-PUBLISHED-TTL:PT1H
BEGIN:VTIMEZONE
TZID:America/New_York
BEGIN:DAYLIGHT
TZOFFSETFROM:-0500
TZOFFSETTO:-0400
TZNAME:EDT
DTSTART:20260308T070000
END:DAYLIGHT
BEGIN:STANDARD
TZOFFSETFROM:-0400
TZOFFSETTO:-0500
TZNAME:EST
DTSTART:20261101T060000
END:STANDARD
END:VTIMEZONE
BEGIN:VEVENT
DTSTART;TZID=America/New_York:20260912T100000
DTEND;TZID=America/New_York:20260912T130000
DTSTAMP:20260419T113947
CREATED:20260122T004153Z
LAST-MODIFIED:20260126T031205Z
UID:1138-1789207200-1789218000@gaitedhorsesne.org
SUMMARY:Trail Ride at Branch Hill Farm with Derry Trail Riders
DESCRIPTION:Gaited Horse of New England will join Derry Trail Riders on September 12\, for a wonderful fundraising trail ride at Branch Hill Farm. This event is sponsored by Derry Trail Riders and includes lunch. Please go to their website to sign up and complete the registration forms. The cost is $25. \nFor more information\, please contact Kelly Leblanc at kelleblanc603@gmail.com. \nDerry Trail Riders website at www.derrytrailriders.com/publicEvents
URL:https://gaitedhorsesne.org/event/trail-ride-at-branch-hill-farm-with-derry-trail-riders/
LOCATION:Branch Hill Farm\, 307 Applebee Road\, Milton Mills\, New Hampshire
ATTACH;FMTTYPE=image/jpeg:https://gaitedhorsesne.org/wp-content/uploads/2026/01/Brooklyn-Spencer-Loren-at-Felton-Field-scaled.jpg
END:VEVENT
END:VCALENDAR