BEGIN:VCALENDAR
VERSION:2.0
PRODID:-//Gaited Horses of New England - ECPv6.14.0//NONSGML v1.0//EN
CALSCALE:GREGORIAN
METHOD:PUBLISH
X-ORIGINAL-URL:https://gaitedhorsesne.org
X-WR-CALDESC:Events for Gaited Horses of New England
REFRESH-INTERVAL;VALUE=DURATION:PT1H
X-Robots-Tag:noindex
X-PUBLISHED-TTL:PT1H
BEGIN:VTIMEZONE
TZID:America/New_York
BEGIN:DAYLIGHT
TZOFFSETFROM:-0500
TZOFFSETTO:-0400
TZNAME:EDT
DTSTART:20260308T070000
END:DAYLIGHT
BEGIN:STANDARD
TZOFFSETFROM:-0400
TZOFFSETTO:-0500
TZNAME:EST
DTSTART:20261101T060000
END:STANDARD
END:VTIMEZONE
BEGIN:VEVENT
DTSTART;TZID=America/New_York:20261016T083000
DTEND;TZID=America/New_York:20261018T170000
DTSTAMP:20260419T131238
CREATED:20260122T014920Z
LAST-MODIFIED:20260126T031826Z
UID:1150-1792139400-1792342800@gaitedhorsesne.org
SUMMARY:Carl Bledsoe 3-Day Clinic in Saco\, Maine
DESCRIPTION:Back by popular demand in Saco\, Maine\, Carl Bledsoe is returning to New England to continue his teaching tour with GHNE. This three-day clinic will focus on gait\, softness\, connection\, and principles that support your horse’s physical and mental development. For those of you who rode with Carl in the past\, he will bring new techniques and more advanced teaching instruction. To those of you new to Carl’s unique\, horse-first\, and gentle style of instruction\, Carl will meet each horse-and-rider team at their level and help with individual goals. Additionally\, clinic riders can purchase an individual\, one-hour lesson after the clinic fills\,  to synthesize and conclude the lessons learned during the clinic. For more information\, contact Loren Stevens at loren.stevens202@gmail.com. \nCARL BLEDSOE BIO \nCarl & Tammy conduct clinics and attend expos\, sharing his story of his progression from the show ring to now teaching and training with the best interest of the horse as his primary focus. They hope to prove just how wonderful\, versatile\, and extremely talented the Tennessee Walking Horse\, as well as the other gaited breeds\, truly are. Carl has been a guest speaker at the Sound Horse Conference in 2014\, a guest speaker representing the Tennessee Walking Horse in 2019 at the Equus Film Festival\, a gaited clinician in 2018 at Equifest and the featured gaited clinician at the 2020\, 2023\, and 2024 Horse World Expo\, 2021 Georgia Horse Fair\, 2022 Southern Equine Expo as well as 2023 Equine Affaire Ohio and Massachusetts. Carl was also a guest judge at the Appalachian Trainer Face-Off in 2022\, 2023\, and 2024. Additionally\, he was featured in the 2023 July edition of Horse Illustrated. Carl was also awarded 2022 Humane Horseman of the Year by the Humane Society of the United States for his work in advocating for the sound\, humane training of Tennessee Walking Horses and other gaited breeds. The annual award honors individuals who demonstrate an outstanding commitment to protecting America’s equines. Carl and Tammy are\, above all\, advocates for the horse! 
URL:https://gaitedhorsesne.org/event/carl-bledsoe-3-day-clinic-in-saco-maine/
LOCATION:Setting Sun Stables\, 146 McKenney Rd\, Saco\, Maine\, 04072
ATTACH;FMTTYPE=image/webp:https://gaitedhorsesne.org/wp-content/uploads/2025/01/Tammy-and-Carl-Bledsoe.webp
END:VEVENT
END:VCALENDAR