BEGIN:VCALENDAR
VERSION:2.0
PRODID:-//Gaited Horses of New England - ECPv6.14.0//NONSGML v1.0//EN
CALSCALE:GREGORIAN
METHOD:PUBLISH
X-ORIGINAL-URL:https://gaitedhorsesne.org
X-WR-CALDESC:Events for Gaited Horses of New England
REFRESH-INTERVAL;VALUE=DURATION:PT1H
X-Robots-Tag:noindex
X-PUBLISHED-TTL:PT1H
BEGIN:VTIMEZONE
TZID:America/New_York
BEGIN:DAYLIGHT
TZOFFSETFROM:-0500
TZOFFSETTO:-0400
TZNAME:EDT
DTSTART:20260308T070000
END:DAYLIGHT
BEGIN:STANDARD
TZOFFSETFROM:-0400
TZOFFSETTO:-0500
TZNAME:EST
DTSTART:20261101T060000
END:STANDARD
END:VTIMEZONE
BEGIN:VEVENT
DTSTART;TZID=America/New_York:20261112T090000
DTEND;TZID=America/New_York:20261115T170000
DTSTAMP:20260420T001900
CREATED:20260122T012743Z
LAST-MODIFIED:20260126T032055Z
UID:1144-1794474000-1794762000@gaitedhorsesne.org
SUMMARY:Equine Affaire 2026
DESCRIPTION:Please join us at Equine Affaire for an exciting horse weekend of learning\, shopping\, and friendship. The gaited clinician (TBD) will most likely have presentations on Saturday and Sunday for 2026. \n\nWe will also host a Club dinner and brief business meeting at the Storrowton Tavern on the Big E campus (most likely on Saturday evening\, so plan your Fantasia nights for Thursday or Friday). We will invite the gaited clinician to be our guest. This is a great opportunity to speak one-on-one with a nationally ranked gaited horse clinician\, as well as a wonderful time to catch up with old GHNE friends. \nStop by our GHNE booth in the Stroh Building. We will have complimentary snacks\, water\, coffee\, and tea for our members\, and a place to sit\, relax\, chat with friends\, and charge your phone. \nInterested in participating in a gait horse demonstration at Equine Affaire? Please let us know; there will be several required practices in order to take part the demo team. \nFor more information\, contact Loren Stevens at lhhstevens@myfairpoint.net.
URL:https://gaitedhorsesne.org/event/equine-affaire-2026/
LOCATION:Big E\, Eastern States Exposition\, West Springfield\, MA\, 1305 Memorial Ave\, United States
ATTACH;FMTTYPE=image/jpeg:https://gaitedhorsesne.org/wp-content/uploads/2026/01/Equine-Affaire-2025-Riding-Team.jpeg
END:VEVENT
END:VCALENDAR