BEGIN:VCALENDAR
VERSION:2.0
PRODID:-//Gaited Horses of New England - ECPv6.14.0//NONSGML v1.0//EN
CALSCALE:GREGORIAN
METHOD:PUBLISH
X-WR-CALNAME:Gaited Horses of New England
X-ORIGINAL-URL:https://gaitedhorsesne.org
X-WR-CALDESC:Events for Gaited Horses of New England
REFRESH-INTERVAL;VALUE=DURATION:PT1H
X-Robots-Tag:noindex
X-PUBLISHED-TTL:PT1H
BEGIN:VTIMEZONE
TZID:America/New_York
BEGIN:DAYLIGHT
TZOFFSETFROM:-0500
TZOFFSETTO:-0400
TZNAME:EDT
DTSTART:20240310T070000
END:DAYLIGHT
BEGIN:STANDARD
TZOFFSETFROM:-0400
TZOFFSETTO:-0500
TZNAME:EST
DTSTART:20241103T060000
END:STANDARD
END:VTIMEZONE
BEGIN:VEVENT
DTSTART;VALUE=DATE:20240825
DTEND;VALUE=DATE:20240826
DTSTAMP:20260419T145822
CREATED:20240115T014600Z
LAST-MODIFIED:20240115T172353Z
UID:528-1724544000-1724630399@gaitedhorsesne.org
SUMMARY:Galloping Gourmet Trail Ride
DESCRIPTION:Come enjoy the trails with your Gaited Horses of New England friends in Winchendon & Royalston on property owned by DCR (Department of Conservation & Recreation)\, DFW (Division of Fisheries & Wildlife)\,  and ACE (Army Corps of Engineers). This ride is sponsored by Bay State Trail Riders Association. \nThere is a permanently marked 10 mile loop on beautiful cart roads and trails through out the park. This ride is just the excuse to grab a friend and enjoy a nice ride. After the ride\, sit down\, have lunch and chat with everyone. Lunch is a delicious affair that one would not expect out on a trail ride. \nLocation: GPS to get to parking area: 27 River Road\, Royalston MA. Follow River Rd. (will turn to dirt and bears right) all the way to the end where we are parking at gate R06\, ACE property \nFor more information and to registrer\, contact Bay State Trail Riders Association at https://bstra.org/ \n  \n 
URL:https://gaitedhorsesne.org/event/galloping-gourmet-trail-ride/
ATTACH;FMTTYPE=image/jpeg:https://gaitedhorsesne.org/wp-content/uploads/2023/10/Julie-and-Carolyn-on-the-trail-1.jpg
END:VEVENT
BEGIN:VEVENT
DTSTART;VALUE=DATE:20240720
DTEND;VALUE=DATE:20240721
DTSTAMP:20260419T145822
CREATED:20240101T204153Z
LAST-MODIFIED:20240716T011812Z
UID:499-1721433600-1721519999@gaitedhorsesne.org
SUMMARY:Versatility Clinic & Fun Show with Heather White: NOTE DATE CHANGE
DESCRIPTION:July 20\, 2024: Versatility Clinic & Fun Show with Heather White: NOTE DATE CHANGE! \nMountain Lane Farm\, Temple\, NH \nCome join us for a morning of instruction for you and your horse in Versatility with Heather White\, and an afternoon of fun low-key showing\, practicing the versatility skills so recently taught to us by Heather. Versatility skills make a better trail horse and more accomplished horse and rider team.  We are pleased to host Jennifer Stow\, an International Mountain Trail Challenge Association (IMTCA) judge for the afternoon. Cost for the morning mini-clinic is $150 for GHNE members and $175 for non-members (which includes membership for insurance purposes). The cost for the afternoon show is $10/class; the show starts at 1:00 pm. \nRSVP to Loren Stevens at: LHHStevens@myfairpoint.net to hold a spot for this popular clinic! See you there! \n 
URL:https://gaitedhorsesne.org/event/versatility-clinic-fun-show-with-heather-white/
LOCATION:Mountain Lane Farm\, 11 Stone Lane\, Temple\, NH\, 03084\, United States
ATTACH;FMTTYPE=image/jpeg:https://gaitedhorsesne.org/wp-content/uploads/2024/01/unnamed.jpg
END:VEVENT
BEGIN:VEVENT
DTSTART;VALUE=DATE:20240705
DTEND;VALUE=DATE:20240708
DTSTAMP:20260419T145822
CREATED:20240101T204819Z
LAST-MODIFIED:20240221T205116Z
UID:504-1720137600-1720396799@gaitedhorsesne.org
SUMMARY:Gaited Dressage and Horsemanship Lessons with Scot MacGregor: NOTE DATE CHANGE!
DESCRIPTION:July 5 – 7\, 2024: Gaited Dressage and Horsemanship Lessons with Scot MacGregor \nLocations: For July 5 – 7: Mountain Lane Farm\, Temple\, NH\n \nRSVP to Loren Stevens at:  lhhstevens@myfairpoint.net\nWe will make a lunch run to ZIZZA PIZZA or bring your own bag lunch; we will have coffee\, water\, and snacks throughout the day. All riders must be members of GHNE for insurance purposes. \nScot MacGregor’s Bio: \nScot MacGregor is the son of World Grand Champion trainer\, Marilyn MacGregor; he began his career and training at a young age learning from his mom. He rode in the Rose Parade 7 times and exhibited a Gaited Horse at the 1984 Los Angeles Olympics. Additionally\, he exhibited a TWH at five different Equitana USA\, the 1997 Equitana in Essen\, Germany\, four years at the Royal in Toronto\, Canada\, and was the group leader for the 2010 World Equestrian Games breed demonstrations. \nScot has presented clinics in Europe\, Canada\, the US\, and Mexico\, and judged the TWH European Championships in 2021 and 2022\, the TWH Mexican Championships\, and all over the US and Canada since 2001. Additionally\, he has judged the United Mountain Horse World Championships twice. \nIn the show ring\, he has won over 3\,000 times in 20 years of showing\, including 750 wins in AAA TWH championships. He has won 65 Western Dressage Association of America (WDAA) Western Dressage World Championships and 7 Grand Championships. And just to change it up\, this year\, Scot finished his first American Endurance Ride Conference (AERC) 50-mile endurance ride in 2023. \nCost: Private 1 hour lesson = $135\nSemi-Private 1 hour lesson = $85/each (two people)\nAudit Fee: $35/day \n 
URL:https://gaitedhorsesne.org/event/gaited-dressage-and-horsemanship-clinic-with-scot-macgregor/
ATTACH;FMTTYPE=image/jpeg:https://gaitedhorsesne.org/wp-content/uploads/2023/11/Scot-Macgregor-on-Electric-Cowboy.jpg
END:VEVENT
BEGIN:VEVENT
DTSTART;VALUE=DATE:20240518
DTEND;VALUE=DATE:20240519
DTSTAMP:20260419T145822
CREATED:20240101T203914Z
LAST-MODIFIED:20240221T182028Z
UID:494-1715990400-1716076799@gaitedhorsesne.org
SUMMARY:Spring Tune-Up Clinic with Julie Dillon
DESCRIPTION:May 18\, 2024: Horsefeathers Academy\, Mason\, NH \nBack by popular demand\, Certified Riding Instructor\, Julie Dillon will hold private\, one-hour riding lessons for you and your horse on specific areas of growth for you as a team. Slots for lessons start at 9:00 am\, and you are invited to audit the other participants’ lessons throughout the day. The event will also include a grilled hamburgers\, vegan burgers\, sides\, and ice cream sandwiches with a wonderful cookout by the fire pit at Horsefeathers Farm.\nCost: $90/person\, includes lesson\, day of auditing\, and dinner\n$30 audit fee for non-riders per day\n$20 for your plus ones for dinner and fire pit fellowship \n Saturday\, May 17 with rain date Sunday\, May 18.  \n\nRSVP to Julie Dillon at: \nhorsefeathersnh@gmail.com
URL:https://gaitedhorsesne.org/event/spring-tune-up-clinic-with-julie-dillon-may-2024-date-tbd/
LOCATION:Horsefeathers Academy\, 594 Sand Pit Rd\, Mason\, NH\, 03048\, United States
ATTACH;FMTTYPE=image/jpeg:https://gaitedhorsesne.org/wp-content/uploads/2024/01/286409207_10221365004094484_3673593480081433894_n.jpg
END:VEVENT
BEGIN:VEVENT
DTSTART;TZID=America/New_York:20240428T123000
DTEND;TZID=America/New_York:20240428T170000
DTSTAMP:20260419T145822
CREATED:20240101T203447Z
LAST-MODIFIED:20240205T160419Z
UID:492-1714307400-1714323600@gaitedhorsesne.org
SUMMARY:Gaited Gals & Guys Brunch
DESCRIPTION:Exact date TBD: Cafe 873 in Ashby\, MA \nJoin gaited friends for great food and fellowship at Cafe 873 in Ashby\, MA. RSVP to Carolyn Hochard at: csh3741@comcast.net
URL:https://gaitedhorsesne.org/event/gaited-gals-guys-brunch-sunday-1230-pm/
LOCATION:Cafe 873\, 873 Main St\, Ashby\, MA\, 01431\, United States
ATTACH;FMTTYPE=image/png:https://gaitedhorsesne.org/wp-content/uploads/2024/01/873tAVERN.png
END:VEVENT
BEGIN:VEVENT
DTSTART;TZID=America/New_York:20240324T123000
DTEND;TZID=America/New_York:20240324T153000
DTSTAMP:20260419T145822
CREATED:20240120T193555Z
LAST-MODIFIED:20240221T194242Z
UID:550-1711283400-1711294200@gaitedhorsesne.org
SUMMARY:Year-End Awards Banquet\, Annual Meeting\, and Silent Auction
DESCRIPTION:Join us at Williams Restaurant\, 184 Pearson Blvd.\, Gardner MA for our Year-End Awards Banquet\, Annual Meeting\, and Silent Auction. We will enjoy a private room for fellowshipping and sharing our love of horses. The cost is $40/person paid to Gaited Horse of New England (Paypal on our website). The Annual Banquet will include your choice of\n \n\nBaked Haddock\,\nPot Roast with Beef Gravy\,\nBaked Stuffed Chicken\, and\nGluten Free and Vegetarian options available (let Carolyn know)\,\n\nand sides of mashed potatoes\, vegetable garden salad\, bread rolls\, coffee\, and dessert. Our diners will have access to a cash bar for cocktails\, wine\, and beer to be purchased on an individual basis. Following the dinner we will honor our high trail-mileage winners for 2023. If you have not submitted your trail mileage to Carolyn for consideration for these awards\, please submit the mileage by February 1. \nWe will also hold our Annual Meeting and elect officers for 2024 and form committees for \n\nShow & Points Committee\,\nTrail & Mileage Committee\,\nClinics & Hospitality Committee\, and\nSocial Media & Marketing Committee.\n\nPlease let Carolyn know if you are interested in serving on any of these committees. \nWe will also hold a Silent Auction. Please bring your new or gently used items to donate to the club for this auction and cash or check to purchase items unique items from the auction. This is our biggest fundraiser of the year\, and we thank you for your generosity. \nFor more information and to RSVP (with your dinner choice) contact our Secretary Carolyn Hochard at csh3741@comcast.net. \n 
URL:https://gaitedhorsesne.org/event/year-end-awards-banquet-annual-meeting-and-silent-auction/
ATTACH;FMTTYPE=image/webp:https://gaitedhorsesne.org/wp-content/uploads/2024/01/Williams-Restaurant.webp
END:VEVENT
BEGIN:VEVENT
DTSTART;TZID=America/New_York:20240218T123000
DTEND;TZID=America/New_York:20240218T153000
DTSTAMP:20260419T145822
CREATED:20240115T012840Z
LAST-MODIFIED:20240115T163943Z
UID:525-1708259400-1708270200@gaitedhorsesne.org
SUMMARY:Potluck Lunch\, Book and Video Review\, and Yankee Swap
DESCRIPTION:We are looking forward to a club potluck lunch to enjoy each other’s company and learn about our best-loved horse books and videos. Bring a sample of your fab favs in horse educational materials or literature\, and after lunch we will share why we love these particular books and videos and what we have learned from them. Scout \naround your house for a book or video that you would like to re-home\, wrap it\, and bring it for a Yankee Swap! Please RSVP to Donna Pettengill with the potluck item you would like to bring at Dpettengill14@gmail.com. \nLocation: Litchfield\, NH\nWeather Date: February 25
URL:https://gaitedhorsesne.org/event/potluck-lunch-book-and-video-review-and-yankee-swap/
ATTACH;FMTTYPE=image/jpeg:https://gaitedhorsesne.org/wp-content/uploads/2024/01/Books-and-Videos-scaled.jpg
END:VEVENT
BEGIN:VEVENT
DTSTART;TZID=America/New_York:20240204T123000
DTEND;TZID=America/New_York:20240204T143000
DTSTAMP:20260419T145822
CREATED:20240101T073854Z
LAST-MODIFIED:20240121T191153Z
UID:483-1707049800-1707057000@gaitedhorsesne.org
SUMMARY:Gaited Guys & Gals Brunch: NOTE DATE CHANGE
DESCRIPTION:Join gaited friends for great food and fellowship at Cafe 873 in Ashby\, MA. RSVP to Carolyn Hochard at: csh3741@comcast.net
URL:https://gaitedhorsesne.org/event/gaited-guys-gals-brunch/
LOCATION:Cafe 873\, 873 Main St\, Ashby\, MA\, 01431\, United States
ATTACH;FMTTYPE=image/png:https://gaitedhorsesne.org/wp-content/uploads/2024/01/873tAVERN.png
END:VEVENT
END:VCALENDAR