BEGIN:VCALENDAR
VERSION:2.0
PRODID:-//Gaited Horses of New England - ECPv6.14.0//NONSGML v1.0//EN
CALSCALE:GREGORIAN
METHOD:PUBLISH
X-ORIGINAL-URL:https://gaitedhorsesne.org
X-WR-CALDESC:Events for Gaited Horses of New England
REFRESH-INTERVAL;VALUE=DURATION:PT1H
X-Robots-Tag:noindex
X-PUBLISHED-TTL:PT1H
BEGIN:VTIMEZONE
TZID:America/New_York
BEGIN:DAYLIGHT
TZOFFSETFROM:-0500
TZOFFSETTO:-0400
TZNAME:EDT
DTSTART:20240310T070000
END:DAYLIGHT
BEGIN:STANDARD
TZOFFSETFROM:-0400
TZOFFSETTO:-0500
TZNAME:EST
DTSTART:20241103T060000
END:STANDARD
END:VTIMEZONE
BEGIN:VEVENT
DTSTART;VALUE=DATE:20240825
DTEND;VALUE=DATE:20240826
DTSTAMP:20260421T060733
CREATED:20240115T014600Z
LAST-MODIFIED:20240115T172353Z
UID:528-1724544000-1724630399@gaitedhorsesne.org
SUMMARY:Galloping Gourmet Trail Ride
DESCRIPTION:Come enjoy the trails with your Gaited Horses of New England friends in Winchendon & Royalston on property owned by DCR (Department of Conservation & Recreation)\, DFW (Division of Fisheries & Wildlife)\,  and ACE (Army Corps of Engineers). This ride is sponsored by Bay State Trail Riders Association. \nThere is a permanently marked 10 mile loop on beautiful cart roads and trails through out the park. This ride is just the excuse to grab a friend and enjoy a nice ride. After the ride\, sit down\, have lunch and chat with everyone. Lunch is a delicious affair that one would not expect out on a trail ride. \nLocation: GPS to get to parking area: 27 River Road\, Royalston MA. Follow River Rd. (will turn to dirt and bears right) all the way to the end where we are parking at gate R06\, ACE property \nFor more information and to registrer\, contact Bay State Trail Riders Association at https://bstra.org/ \n  \n 
URL:https://gaitedhorsesne.org/event/galloping-gourmet-trail-ride/
LOCATION:New Hampshire
ATTACH;FMTTYPE=image/jpeg:https://gaitedhorsesne.org/wp-content/uploads/2023/10/Julie-and-Carolyn-on-the-trail-1.jpg
END:VEVENT
END:VCALENDAR