BEGIN:VCALENDAR
VERSION:2.0
PRODID:-//Gaited Horses of New England - ECPv6.14.0//NONSGML v1.0//EN
CALSCALE:GREGORIAN
METHOD:PUBLISH
X-WR-CALNAME:Gaited Horses of New England
X-ORIGINAL-URL:https://gaitedhorsesne.org
X-WR-CALDESC:Events for Gaited Horses of New England
REFRESH-INTERVAL;VALUE=DURATION:PT1H
X-Robots-Tag:noindex
X-PUBLISHED-TTL:PT1H
BEGIN:VTIMEZONE
TZID:America/New_York
BEGIN:DAYLIGHT
TZOFFSETFROM:-0500
TZOFFSETTO:-0400
TZNAME:EDT
DTSTART:20250309T070000
END:DAYLIGHT
BEGIN:STANDARD
TZOFFSETFROM:-0400
TZOFFSETTO:-0500
TZNAME:EST
DTSTART:20251102T060000
END:STANDARD
END:VTIMEZONE
BEGIN:VEVENT
DTSTART;VALUE=DATE:20250731
DTEND;VALUE=DATE:20250804
DTSTAMP:20260419T131116
CREATED:20241125T175354Z
LAST-MODIFIED:20250624T165856Z
UID:729-1753920000-1754265599@gaitedhorsesne.org
SUMMARY:NOTE DATE CHANGE! Scot MacGregor: Gaited Dressage and Horsemanship: Private Lessons
DESCRIPTION:THIS CLINIC IS SOLD OUT FOR LESSONS.\nContact Loren Stevens at loren.stevens202@gmail.com to be put on the waitlist. Auditing for all days is still available. Please purchase your audit tickets only below. \nScot MacGregor will give private\, gaited dressage and horsemanship lessons. As he teaches the horse and rider team in the lesson\, he also includes detailed instructions to the auditors. His expertise is world-class\, and he is skilled in explaining training techniques with unique clarity. All gaited breeds are invited. He will meet each horse and rider team at their level of riding to focus on their goals and next steps. \nLessons will be $150/hour for a private lesson. The audit fee is $40 per day; if you take a lesson that day\, the audit fee is waived. All riders must be Gaited Horses of New England members for insurance purposes. You can find our membership form on the Home or Contact Us pages of this website and pay through PayPal on the Events Page here. \nFor more information\, RSVP to Loren Stevens at: loren.stevens202@gmail.com \nScot MacGregor’s Bio:\nScot MacGregor is the son of World Grand Champion trainer\, Marilyn MacGregor; he began his career and training at a young age\, learning from his mom. He rode in the Rose Parade 7 times and exhibited a Gaited Horse at the 1984 Los Angeles Olympics. Additionally\, he exhibited a TWH at five different Equitana USA\, the 1997 Equitana in Essen\, Germany\, four years at the Royal in Toronto\, Canada\, and was the group leader for the 2010 World Equestrian Games breed demonstrations. \nScot has presented clinics in Europe\, Canada\, the US\, and Mexico. He judged the TWH European Championships in 2021 and 2022\, the TWH Mexican Championships\, and shows in US and Canada since 2001. Additionally\, he has judged the United Mountain Horse World Championships twice. \nIn the show ring\, he has won over 3\,000 times in 20 years of showing\, including 750 wins in AAA TWH championships. He has won over 65 Western Dressage Association of America (WDAA) Western Dressage World Championships and 7 Grand Championships. Just to change up his professional focus\, Scot finished his first American Endurance Ride Conference (AERC) 50-mile endurance ride in 2023.
URL:https://gaitedhorsesne.org/event/scot-macgregor-gaited-dressage-and-horsemanship-private-lessons/
LOCATION:Mountain Lane Farm\, 11 Stone Lane\, Temple\, NH\, 03084\, United States
ATTACH;FMTTYPE=image/jpeg:https://gaitedhorsesne.org/wp-content/uploads/2024/11/Scot-MacGregor-Waterfall.jpg
END:VEVENT
BEGIN:VEVENT
DTSTART;VALUE=DATE:20250822
DTEND;VALUE=DATE:20250825
DTSTAMP:20260419T131116
CREATED:20241231T234205Z
LAST-MODIFIED:20250814T022612Z
UID:774-1755820800-1756079999@gaitedhorsesne.org
SUMMARY:Ivy Starnes: Gaited Horse Clinic
DESCRIPTION:GHNE will host nationally renowned Gaited Horse Clinician\, Ivy Starnes\, this August 22 – 24. The clinic will be limited to 8 horses and rider teams to allow ample\, individual attention to each horse and rider team. Each day\, the clinic will begin with a one-hour classroom session with videos. \nEach horse and rider receives an individual lesson each day and will interact during the other clinic participant’s lessons as well. \nThis individual and group format allows for all participants to receive individualized attention and additionally work on their goals. Ivy will ride your horse early in the clinic and then transition to giving the rider time to learn on their own horse. This clinic style works amazingly well\, and by the end of the clinic\, most times\, every horse is gaiting like a champ with his or her rider! \nIt is a very interactive clinic\, with lots of Q&A from riders and auditors. \nIvy will work on gaiting\, cantering\, dressage\, obstacles\, standing to mount\, side passing\, dressage\, trick training\, and liberty training\, depending on the goals of the horse and rider team. \nCost: $1000 for the three-day clinic\n$40/day to audit \nFor more information or to reserve your slot (1 of 8)\, contact Loren Stevens at Loren.Stevens202@gmail.com. Contact Loren for the waitlist. \nGaited Horses of New England will have coffee\, snacks\, water\, and lunch runs each day of the clinic. We will also host a Potluck Supper on Saturday evening (August 23) for GHNE members to enjoy each other’s fellowship and ask questions of Ivy. Save the dates for the clinic and the Potluck! \n 
URL:https://gaitedhorsesne.org/event/ivy-starnes-gaited-horse-clinic/
LOCATION:Mt. Lane Farm\, 11 Stone Lane\, Temple\, New Hampshire
ATTACH;FMTTYPE=image/jpeg:https://gaitedhorsesne.org/wp-content/uploads/2024/01/272696956_5029272023777383_6831811904931759179_n.jpg
END:VEVENT
END:VCALENDAR