BEGIN:VCALENDAR
VERSION:2.0
PRODID:-//Gaited Horses of New England - ECPv6.14.0//NONSGML v1.0//EN
CALSCALE:GREGORIAN
METHOD:PUBLISH
X-ORIGINAL-URL:https://gaitedhorsesne.org
X-WR-CALDESC:Events for Gaited Horses of New England
REFRESH-INTERVAL;VALUE=DURATION:PT1H
X-Robots-Tag:noindex
X-PUBLISHED-TTL:PT1H
BEGIN:VTIMEZONE
TZID:America/New_York
BEGIN:DAYLIGHT
TZOFFSETFROM:-0500
TZOFFSETTO:-0400
TZNAME:EDT
DTSTART:20250309T070000
END:DAYLIGHT
BEGIN:STANDARD
TZOFFSETFROM:-0400
TZOFFSETTO:-0500
TZNAME:EST
DTSTART:20251102T060000
END:STANDARD
END:VTIMEZONE
BEGIN:VEVENT
DTSTART;TZID=America/New_York:20250920T100000
DTEND;TZID=America/New_York:20250920T153000
DTSTAMP:20260417T065202
CREATED:20250624T172233Z
LAST-MODIFIED:20250814T023817Z
UID:984-1758362400-1758382200@gaitedhorsesne.org
SUMMARY:Trail Ride at Felton Field\, Barre\, MA
DESCRIPTION:September 20 for our GHNE Trail Ride at Felton Field\, Barre\, MA (Felton Field\, Old Coldbrook Rd\, Barre\, MA 01005). Ride-out time is 10:00 am. We have marked a 6-mile ride and a 13-mile ride. Please bring your own lunch. We will provide snacks and water. The ride is complimentary. Please RSVP to Loren Stevens at loren.stevens202@gmail.com so we know how many horse and rider teams to expect. Looking forward to seeing you there for a super fun trail ride with smooth-moving gaited horses.
URL:https://gaitedhorsesne.org/event/trail-ride-at-felton-field/
LOCATION:Felton Field\, 120 Old Coldbrook Road\, Barre\, MA
ATTACH;FMTTYPE=image/jpeg:https://gaitedhorsesne.org/wp-content/uploads/2025/06/Loren-Mike-Ali-Brooke-in-VT-scaled.jpg
END:VEVENT
END:VCALENDAR